BEGIN:VCALENDAR
VERSION:2.0
PRODID:-//Turvey Pre School Playgroup - ECPv6.15.17.1//NONSGML v1.0//EN
CALSCALE:GREGORIAN
METHOD:PUBLISH
X-ORIGINAL-URL:https://turveypreschool.org
X-WR-CALDESC:Events for Turvey Pre School Playgroup
REFRESH-INTERVAL;VALUE=DURATION:PT1H
X-Robots-Tag:noindex
X-PUBLISHED-TTL:PT1H
BEGIN:VTIMEZONE
TZID:Europe/London
BEGIN:DAYLIGHT
TZOFFSETFROM:+0000
TZOFFSETTO:+0100
TZNAME:BST
DTSTART:20240331T010000
END:DAYLIGHT
BEGIN:STANDARD
TZOFFSETFROM:+0100
TZOFFSETTO:+0000
TZNAME:GMT
DTSTART:20241027T010000
END:STANDARD
BEGIN:DAYLIGHT
TZOFFSETFROM:+0000
TZOFFSETTO:+0100
TZNAME:BST
DTSTART:20250330T010000
END:DAYLIGHT
BEGIN:STANDARD
TZOFFSETFROM:+0100
TZOFFSETTO:+0000
TZNAME:GMT
DTSTART:20251026T010000
END:STANDARD
BEGIN:DAYLIGHT
TZOFFSETFROM:+0000
TZOFFSETTO:+0100
TZNAME:BST
DTSTART:20260329T010000
END:DAYLIGHT
BEGIN:STANDARD
TZOFFSETFROM:+0100
TZOFFSETTO:+0000
TZNAME:GMT
DTSTART:20261025T010000
END:STANDARD
END:VTIMEZONE
BEGIN:VEVENT
DTSTART;VALUE=DATE:20250524
DTEND;VALUE=DATE:20250602
DTSTAMP:20260419T141551
CREATED:20230525T132535Z
LAST-MODIFIED:20250512T103607Z
UID:3723-1748044800-1748822399@turveypreschool.org
SUMMARY:TPS Half Term (Summer Term) 2025
DESCRIPTION:
URL:https://turveypreschool.org/event/tps-half-term-summer-term/
CATEGORIES:Term Dates
END:VEVENT
BEGIN:VEVENT
DTSTART;VALUE=DATE:20250602
DTEND;VALUE=DATE:20250603
DTSTAMP:20260419T141551
CREATED:20240613T124117Z
LAST-MODIFIED:20250512T103623Z
UID:4173-1748822400-1748908799@turveypreschool.org
SUMMARY:TPS First Day of Term (Summer Term 2) 2025
DESCRIPTION:
URL:https://turveypreschool.org/event/tps-first-day-of-term-summer-term-2-2/
CATEGORIES:Term Dates
END:VEVENT
BEGIN:VEVENT
DTSTART;VALUE=DATE:20250621
DTEND;VALUE=DATE:20250622
DTSTAMP:20260419T141551
CREATED:20250514T084526Z
LAST-MODIFIED:20250514T084526Z
UID:4499-1750464000-1750550399@turveypreschool.org
SUMMARY:TPS Toddle Waddle
DESCRIPTION:This is our main fundraiser of the year.  The children will ask for sponsorship from friends and family prior to this event.  Children and their families walk a lap of the lake together\, with staff there to support. \n  \nIt is a lovely event bringing us all together.
URL:https://turveypreschool.org/event/tps-toddle-waddle/
CATEGORIES:Activites,Term Dates
END:VEVENT
END:VCALENDAR